BEGIN:VCALENDAR
VERSION:2.0
PRODID:spatie/icalendar-generator
DESCRIPTION:Events from Christian Life School
X-WR-CALDESC:Events from Christian Life School
REFRESH-INTERVAL;VALUE=DURATION:PT1440M
X-PUBLISHED-TTL:PT1440M
BEGIN:VTIMEZONE
TZID:America/Dawson_Creek
BEGIN:STANDARD
DTSTART:20190308T000000Z
TZOFFSETFROM:-0700
TZOFFSETTO:-0700
END:STANDARD
END:VTIMEZONE
BEGIN:VTIMEZONE
TZID:UTC
BEGIN:STANDARD
DTSTART:20250726T091530Z
TZOFFSETFROM:+0000
TZOFFSETTO:+0000
END:STANDARD
END:VTIMEZONE
BEGIN:VEVENT
UID:726-151
DTSTAMP:20260422T091530Z
SUMMARY:Term 1 Report Cards (Grades K-6)
LOCATION:
ORGANIZER;CN=clsadmin:MAILTO:office@christianlifeschool.ca
DTSTART;TZID=America/Dawson_Creek;VALUE=DATE:20191203
DTEND;TZID=America/Dawson_Creek;VALUE=DATE:20191204
X-ALT-DESC;FMTTYPE=TEXT/HTML:
CATEGORIES:Report Cards 
URL;VALUE=URI:https://christianlifeschool.ca/mc-events/term-1-report-cards-
 grades-k-6-2/
METHOD:PUBLISH
END:VEVENT
END:VCALENDAR